BEGIN:VCALENDAR
VERSION:2.0
PRODID:-// - ECPv6.15.20//NONSGML v1.0//EN
CALSCALE:GREGORIAN
METHOD:PUBLISH
X-ORIGINAL-URL:https://www.ncha.de
X-WR-CALDESC:Veranstaltungen für 
REFRESH-INTERVAL;VALUE=DURATION:PT1H
X-Robots-Tag:noindex
X-PUBLISHED-TTL:PT1H
BEGIN:VTIMEZONE
TZID:Europe/Berlin
BEGIN:DAYLIGHT
TZOFFSETFROM:+0100
TZOFFSETTO:+0200
TZNAME:CEST
DTSTART:20250330T010000
END:DAYLIGHT
BEGIN:STANDARD
TZOFFSETFROM:+0200
TZOFFSETTO:+0100
TZNAME:CET
DTSTART:20251026T010000
END:STANDARD
BEGIN:DAYLIGHT
TZOFFSETFROM:+0100
TZOFFSETTO:+0200
TZNAME:CEST
DTSTART:20260329T010000
END:DAYLIGHT
BEGIN:STANDARD
TZOFFSETFROM:+0200
TZOFFSETTO:+0100
TZNAME:CET
DTSTART:20261025T010000
END:STANDARD
BEGIN:DAYLIGHT
TZOFFSETFROM:+0100
TZOFFSETTO:+0200
TZNAME:CEST
DTSTART:20270328T010000
END:DAYLIGHT
BEGIN:STANDARD
TZOFFSETFROM:+0200
TZOFFSETTO:+0100
TZNAME:CET
DTSTART:20271031T010000
END:STANDARD
END:VTIMEZONE
BEGIN:VEVENT
DTSTART;VALUE=DATE:20260424
DTEND;VALUE=DATE:20260427
DTSTAMP:20260422T014335
CREATED:20260126T185059Z
LAST-MODIFIED:20260126T185059Z
UID:7892-1776988800-1777247999@www.ncha.de
SUMMARY:RBC Clinic mit US-Trainer
DESCRIPTION:
URL:https://www.ncha.de/event/rbc-clinic-mit-us-trainer/
LOCATION:Reitanlage Meir\, Thierhauptener Straße 6\, Thierhaupten / Ötz\, 86672\, Deutschland
CATEGORIES:Kurs
END:VEVENT
BEGIN:VEVENT
DTSTART;VALUE=DATE:20260509
DTEND;VALUE=DATE:20260511
DTSTAMP:20260422T014335
CREATED:20260126T184009Z
LAST-MODIFIED:20260126T184009Z
UID:7878-1778284800-1778457599@www.ncha.de
SUMMARY:HP Show 2 & 3 - Thierhaupten
DESCRIPTION:Alle Turniere mit NCHA USA-\, RBC Cup- und NCHAOG Highpointwertung!
URL:https://www.ncha.de/event/hp-show-2-3-thierhaupten/
LOCATION:Reitanlage Meir\, Thierhauptener Straße 6\, Thierhaupten / Ötz\, 86672\, Deutschland
END:VEVENT
BEGIN:VEVENT
DTSTART;VALUE=DATE:20260613
DTEND;VALUE=DATE:20260615
DTSTAMP:20260422T014335
CREATED:20260126T184229Z
LAST-MODIFIED:20260126T184229Z
UID:7880-1781308800-1781481599@www.ncha.de
SUMMARY:HP Show 4 & 5 – Thierhaupten
DESCRIPTION:Alle Turniere mit NCHA USA-\, RBC Cup- und NCHAOG Highpointwertung!
URL:https://www.ncha.de/event/hp-show-4-5-thierhaupten/
LOCATION:Reitanlage Meir\, Thierhauptener Straße 6\, Thierhaupten / Ötz\, 86672\, Deutschland
CATEGORIES:Show
END:VEVENT
BEGIN:VEVENT
DTSTART;VALUE=DATE:20260627
DTEND;VALUE=DATE:20260628
DTSTAMP:20260422T014335
CREATED:20260126T184324Z
LAST-MODIFIED:20260126T184324Z
UID:7882-1782518400-1782604799@www.ncha.de
SUMMARY:HP Show 6 – Sinsheim
DESCRIPTION:Alle Turniere mit NCHA USA-\, RBC Cup- und NCHAOG Highpointwertung!
URL:https://www.ncha.de/event/hp-show-6-sinsheim/
LOCATION:Patrick Sattler Working Horses\, Schwimmbadweg 30\, Sinsheim\, Baden-Württemberg\, 74889\, Deutschland
ORGANIZER;CN="NCHA of Germany":MAILTO:info@ncha.de
END:VEVENT
BEGIN:VEVENT
DTSTART;VALUE=DATE:20260711
DTEND;VALUE=DATE:20260713
DTSTAMP:20260422T014335
CREATED:20260126T184549Z
LAST-MODIFIED:20260126T184549Z
UID:7884-1783728000-1783900799@www.ncha.de
SUMMARY:HP Show 7 & 8 – Einöd
DESCRIPTION:Alle Turniere mit NCHA USA-\, RBC Cup- und NCHAOG Highpointwertung!
URL:https://www.ncha.de/event/hp-show-7-8-einoed/
LOCATION:Shadow Creek Ranch\, Einöd 385\, Bad Colberg-Heldburg\, Thüringen\, 98663\, Deutschland
CATEGORIES:Kurs,Show
ORGANIZER;CN="NCHA of Germany":MAILTO:info@ncha.de
END:VEVENT
BEGIN:VEVENT
DTSTART;VALUE=DATE:20260808
DTEND;VALUE=DATE:20260810
DTSTAMP:20260422T014335
CREATED:20260126T184708Z
LAST-MODIFIED:20260126T184708Z
UID:7886-1786147200-1786319999@www.ncha.de
SUMMARY:HP Show – Thierhaupten
DESCRIPTION:Alle Turniere mit NCHA USA-\, RBC Cup- und NCHAOG Highpointwertung!
URL:https://www.ncha.de/event/hp-show-thierhaupten/
LOCATION:Reitanlage Meir\, Thierhauptener Straße 6\, Thierhaupten / Ötz\, 86672\, Deutschland
CATEGORIES:Show
END:VEVENT
BEGIN:VEVENT
DTSTART;VALUE=DATE:20260912
DTEND;VALUE=DATE:20260914
DTSTAMP:20260422T014335
CREATED:20260126T184834Z
LAST-MODIFIED:20260126T184834Z
UID:7888-1789171200-1789343999@www.ncha.de
SUMMARY:Bayerische Meisterschaft und HP Show
DESCRIPTION:Alle Turniere mit NCHA USA-\, RBC Cup- und NCHAOG Highpointwertung!
URL:https://www.ncha.de/event/bayerische-meisterschaft-und-hp-show/
LOCATION:Reitanlage Meir\, Thierhauptener Straße 6\, Thierhaupten / Ötz\, 86672\, Deutschland
CATEGORIES:Show
END:VEVENT
BEGIN:VEVENT
DTSTART;VALUE=DATE:20261003
DTEND;VALUE=DATE:20261005
DTSTAMP:20260422T014335
CREATED:20260126T184928Z
LAST-MODIFIED:20260126T184928Z
UID:7890-1790985600-1791158399@www.ncha.de
SUMMARY:Int. Deutsche Meisterschaft und Futurity
DESCRIPTION:Alle Turniere mit NCHA USA-\, RBC Cup- und NCHAOG Highpointwertung!
URL:https://www.ncha.de/event/int-deutsche-meisterschaft-und-futurity/
LOCATION:Reitanlage Meir\, Thierhauptener Straße 6\, Thierhaupten / Ötz\, 86672\, Deutschland
ORGANIZER;CN="NCHA of Germany":MAILTO:info@ncha.de
END:VEVENT
END:VCALENDAR